BEGIN:VCALENDAR
VERSION:2.0
METHOD:PUBLISH
PRODID:-//imacoda.com//SPD-Web-O-Mat//EN
CALSCALE:GREGORIAN
BEGIN:VTIMEZONE
TZID:Europe/Berlin
BEGIN:DAYLIGHT
TZOFFSETFROM:+0100
RRULE:FREQ=YEARLY;BYMONTH=3;BYDAY=-1SU
DTSTART:19810329T020000
TZNAME:MESZ
TZOFFSETTO:+0200
END:DAYLIGHT
BEGIN:STANDARD
TZOFFSETFROM:+0200
RRULE:FREQ=YEARLY;BYMONTH=10;BYDAY=-1SU
DTSTART:19961027T030000
TZNAME:MEZ
TZOFFSETTO:+0100
END:STANDARD
END:VTIMEZONE
BEGIN:VEVENT
UID:20260331T095040Z-00001184698-LULU@www.bayernspd.de
CREATED:20260331T095040Z
LAST-MODIFIED:20260331T095040Z
DTSTAMP:20260331T095040Z
TRANSP:TRANSPARENT
DTSTART;TZID=Europe/Berlin:20260430T180000
DTEND;TZID=Europe/Berlin:20260430T180000
SUMMARY:SPD Dingolfing-Landau: Gedenkfeier an der KZ-Gedenkstätte Waller
 sdorf
LOCATION:Wallersdorf-West\, Sebastiani-Kirche
DESCRIPTION:Termin im Web (Bernd Vilsmeier):\nhttps://bernd-vilsmeier.de
 /termine/?id=1184698
END:VEVENT
END:VCALENDAR
